 BEGIN:VCALENDAR
VERSION:2.0
PRODID:-//Pallas Marketing - ECPv6.15.20//NONSGML v1.0//EN
CALSCALE:GREGORIAN
METHOD:PUBLISH
X-WR-CALNAME:Pallas Marketing
X-ORIGINAL-URL:https://www.pallasmarketing.ie
X-WR-CALDESC:Events for Pallas Marketing
REFRESH-INTERVAL;VALUE=DURATION:PT1H
X-Robots-Tag:noindex
X-PUBLISHED-TTL:PT1H
BEGIN:VTIMEZONE
TZID:Europe/Dublin
BEGIN:DAYLIGHT
TZOFFSETFROM:+0000
TZOFFSETTO:+0100
TZNAME:IST
DTSTART:20150329T010000
END:DAYLIGHT
BEGIN:STANDARD
TZOFFSETFROM:+0100
TZOFFSETTO:+0000
TZNAME:GMT
DTSTART:20151025T010000
END:STANDARD
BEGIN:DAYLIGHT
TZOFFSETFROM:+0000
TZOFFSETTO:+0100
TZNAME:IST
DTSTART:20160327T010000
END:DAYLIGHT
BEGIN:STANDARD
TZOFFSETFROM:+0100
TZOFFSETTO:+0000
TZNAME:GMT
DTSTART:20161030T010000
END:STANDARD
BEGIN:DAYLIGHT
TZOFFSETFROM:+0000
TZOFFSETTO:+0100
TZNAME:IST
DTSTART:20170326T010000
END:DAYLIGHT
BEGIN:STANDARD
TZOFFSETFROM:+0100
TZOFFSETTO:+0000
TZNAME:GMT
DTSTART:20171029T010000
END:STANDARD
END:VTIMEZONE
BEGIN:VEVENT
DTSTART;TZID=Europe/Dublin:20161126T200000
DTEND;TZID=Europe/Dublin:20161126T230000
DTSTAMP:20260424T092947
CREATED:20160901T112236Z
LAST-MODIFIED:20161024T114454Z
UID:1999-1480190400-1480201200@www.pallasmarketing.ie
SUMMARY:Shannon Gaels GAA Club Fundraiser
DESCRIPTION:Shannon Gaels GAA Club – “Who wants to be a Thousandaire”\nThe Bush Hotel in Carrick on Shannon is the place to be on Saturday November 26th for Shannon Gael’s Thousandaire fundraiser. The club is currently selling advertising and tickets go on sale from October 25th for what is expected to be a sell out for the Croghan club \nA great night’s entertainment is promised to all \nTickets are available from any committee member or on hotline 087-2207210. \nfacebook.com/shannongaelsgaa \n 
URL:https://www.pallasmarketing.ie/event/old-crescent-rfc-fundraiser/
LOCATION:The Bush Hotel\, Carrick on Shannon\, Bush Hotel\, Main St\, Carrick on Shannon\, Co Leitrim\, Ireland
CATEGORIES:All events,Club Fundraising,Thousandaire
ORGANIZER;CN="Pallas Marketing":MAILTO:info@thousandaire.ie
END:VEVENT
END:VCALENDAR