 BEGIN:VCALENDAR
VERSION:2.0
PRODID:-//Pallas Marketing - ECPv6.15.20//NONSGML v1.0//EN
CALSCALE:GREGORIAN
METHOD:PUBLISH
X-WR-CALNAME:Pallas Marketing
X-ORIGINAL-URL:https://www.pallasmarketing.ie
X-WR-CALDESC:Events for Pallas Marketing
REFRESH-INTERVAL;VALUE=DURATION:PT1H
X-Robots-Tag:noindex
X-PUBLISHED-TTL:PT1H
BEGIN:VTIMEZONE
TZID:Europe/Dublin
BEGIN:DAYLIGHT
TZOFFSETFROM:+0000
TZOFFSETTO:+0100
TZNAME:IST
DTSTART:20150329T010000
END:DAYLIGHT
BEGIN:STANDARD
TZOFFSETFROM:+0100
TZOFFSETTO:+0000
TZNAME:GMT
DTSTART:20151025T010000
END:STANDARD
BEGIN:DAYLIGHT
TZOFFSETFROM:+0000
TZOFFSETTO:+0100
TZNAME:IST
DTSTART:20160327T010000
END:DAYLIGHT
BEGIN:STANDARD
TZOFFSETFROM:+0100
TZOFFSETTO:+0000
TZNAME:GMT
DTSTART:20161030T010000
END:STANDARD
BEGIN:DAYLIGHT
TZOFFSETFROM:+0000
TZOFFSETTO:+0100
TZNAME:IST
DTSTART:20170326T010000
END:DAYLIGHT
BEGIN:STANDARD
TZOFFSETFROM:+0100
TZOFFSETTO:+0000
TZNAME:GMT
DTSTART:20171029T010000
END:STANDARD
END:VTIMEZONE
BEGIN:VEVENT
DTSTART;TZID=Europe/Dublin:20161027T200000
DTEND;TZID=Europe/Dublin:20161027T230000
DTSTAMP:20260423T121132
CREATED:20160519T092405Z
LAST-MODIFIED:20160830T154104Z
UID:1665-1477598400-1477609200@www.pallasmarketing.ie
SUMMARY:Mount Mercy College - Thousandaire Show
DESCRIPTION:Mount Mercy College\n \nThe Thrilling Gameshow Experience\nWho wants to be a Thousandaire? \nMount Mercy College are holding a fundraising show night in the Oriel Hotel\, Ballincollig\, Cork on Oct 27th 2016. \nA great night’s entertainment is promised with prize amounts ranging from €5 to €1000! \n  \nTickets are available from any committee member or can be purchased on the night at the door. \nPlease support the school fundraiser with the Thousandaire event.
URL:https://www.pallasmarketing.ie/event/mount-mercy-college-thousandaire/
LOCATION:Oriel Hotel\, Ballincollig\, Cork\, Main St\, Ballincollig\, Co. Cork\, Cork\, Ireland
CATEGORIES:All events,Schools Fundraising,Thousandaire
ORGANIZER;CN="Pallas Marketing":MAILTO:info@thousandaire.ie
END:VEVENT
END:VCALENDAR